BEGIN:VCALENDAR
VERSION:2.0
PRODID:-//Confraria dos Gastrónomos dos Açores - ECPv6.3.2//NONSGML v1.0//EN
CALSCALE:GREGORIAN
METHOD:PUBLISH
X-WR-CALNAME:Confraria dos Gastrónomos dos Açores
X-ORIGINAL-URL:https://xn--confrariagastronomosdosaores-bqc.com
X-WR-CALDESC:Events for Confraria dos Gastrónomos dos Açores
REFRESH-INTERVAL;VALUE=DURATION:PT1H
X-Robots-Tag:noindex
X-PUBLISHED-TTL:PT1H
BEGIN:VTIMEZONE
TZID:Atlantic/Azores
BEGIN:DAYLIGHT
TZOFFSETFROM:-0100
TZOFFSETTO:+0000
TZNAME:+00
DTSTART:20210328T010000
END:DAYLIGHT
BEGIN:STANDARD
TZOFFSETFROM:+0000
TZOFFSETTO:-0100
TZNAME:-01
DTSTART:20211031T010000
END:STANDARD
END:VTIMEZONE
BEGIN:VEVENT
DTSTART;VALUE=DATE:20210913
DTEND;VALUE=DATE:20210920
DTSTAMP:20260425T102420
CREATED:20210910T214601Z
LAST-MODIFIED:20210910T214714Z
UID:415-1631491200-1632095999@xn--confrariagastronomosdosaores-bqc.com
SUMMARY:Evento Teste
DESCRIPTION:Descrição teste do evento.
URL:https://xn--confrariagastronomosdosaores-bqc.com/index.php/event/evento-teste/
LOCATION:Praça do Marmandjo\, Rua Cidade de Toronto\, Ponta Delgada\, 9500-168\, Portugal
CATEGORIES:Demonstrações,Demonstrção Culinária
ORGANIZER;CN="Rui Cavaco":MAILTO:ruicavaco@hotmail.com
END:VEVENT
END:VCALENDAR